BEGIN:VCALENDAR
VERSION:2.0
PRODID:-//jEvents 2.0 for Joomla//EN
CALSCALE:GREGORIAN
METHOD:PUBLISH
BEGIN:VTIMEZONE
TZID:Europe/Berlin
BEGIN:STANDARD
DTSTART:20241027T020000
RDATE:20250330T030000
TZOFFSETFROM:+0200
TZOFFSETTO:+0100
TZNAME:Europe/Berlin CET
END:STANDARD
BEGIN:STANDARD
DTSTART:20251026T020000
RDATE:20260329T030000
TZOFFSETFROM:+0200
TZOFFSETTO:+0100
TZNAME:Europe/Berlin CET
END:STANDARD
BEGIN:STANDARD
DTSTART:20261025T020000
RDATE:20270328T030000
TZOFFSETFROM:+0200
TZOFFSETTO:+0100
TZNAME:Europe/Berlin CET
END:STANDARD
BEGIN:STANDARD
DTSTART:20271031T020000
RDATE:20280326T030000
TZOFFSETFROM:+0200
TZOFFSETTO:+0100
TZNAME:Europe/Berlin CET
END:STANDARD
BEGIN:STANDARD
DTSTART:20281029T020000
RDATE:20290325T030000
TZOFFSETFROM:+0200
TZOFFSETTO:+0100
TZNAME:Europe/Berlin CET
END:STANDARD
BEGIN:STANDARD
DTSTART:20291028T020000
RDATE:20300331T030000
TZOFFSETFROM:+0200
TZOFFSETTO:+0100
TZNAME:Europe/Berlin CET
END:STANDARD
BEGIN:STANDARD
DTSTART:20301027T020000
RDATE:20310330T030000
TZOFFSETFROM:+0200
TZOFFSETTO:+0100
TZNAME:Europe/Berlin CET
END:STANDARD
BEGIN:STANDARD
DTSTART:20311026T020000
RDATE:20320328T030000
TZOFFSETFROM:+0200
TZOFFSETTO:+0100
TZNAME:Europe/Berlin CET
END:STANDARD
BEGIN:DAYLIGHT
DTSTART:20240627T180000
RDATE:20241027T020000
TZOFFSETFROM:+0100
TZOFFSETTO:+0200
TZNAME:Europe/Berlin CEST
END:DAYLIGHT
BEGIN:DAYLIGHT
DTSTART:20250330T030000
RDATE:20251026T020000
TZOFFSETFROM:+0100
TZOFFSETTO:+0200
TZNAME:Europe/Berlin CEST
END:DAYLIGHT
BEGIN:DAYLIGHT
DTSTART:20260329T030000
RDATE:20261025T020000
TZOFFSETFROM:+0100
TZOFFSETTO:+0200
TZNAME:Europe/Berlin CEST
END:DAYLIGHT
BEGIN:DAYLIGHT
DTSTART:20270328T030000
RDATE:20271031T020000
TZOFFSETFROM:+0100
TZOFFSETTO:+0200
TZNAME:Europe/Berlin CEST
END:DAYLIGHT
BEGIN:DAYLIGHT
DTSTART:20280326T030000
RDATE:20281029T020000
TZOFFSETFROM:+0100
TZOFFSETTO:+0200
TZNAME:Europe/Berlin CEST
END:DAYLIGHT
BEGIN:DAYLIGHT
DTSTART:20290325T030000
RDATE:20291028T020000
TZOFFSETFROM:+0100
TZOFFSETTO:+0200
TZNAME:Europe/Berlin CEST
END:DAYLIGHT
BEGIN:DAYLIGHT
DTSTART:20300331T030000
RDATE:20301027T020000
TZOFFSETFROM:+0100
TZOFFSETTO:+0200
TZNAME:Europe/Berlin CEST
END:DAYLIGHT
BEGIN:DAYLIGHT
DTSTART:20310330T030000
RDATE:20311026T020000
TZOFFSETFROM:+0100
TZOFFSETTO:+0200
TZNAME:Europe/Berlin CEST
END:DAYLIGHT
END:VTIMEZONE
BEGIN:VEVENT
UID:43030ae910b7fdcd1525acb53094ebfe
CATEGORIES:Allgemein
CREATED:20250315T145731
SUMMARY:Sommerhock
DESCRIPTION:Liebe Mitglieder im BSIR, liebe Milena,wir freuen uns auf euch beim BSIR So
 mmerhock bei Rudolf im Garten, Strandbadstrasse 16 auf der Au, ab 18:00 Uhr
  am Sa., den 28. Juni 2025.Unser Sommerhock, früher Vollmondausfahrt, dann 
 Lampion/Vollmondhock beginnt mit Sonnenschein bis 21:15 Uhr. \nBis zur Dunk
 elheit gegen 22:00 Uhr werden mitgebrachte Lampions trotz beendetem Neumond
  kaum zur Geltung kommen. Um so besser sind mitgebrachtes Essen und Getränk
 e zu erkennen.Bitte denkt daran, auch Besteck, Teller und Gläser mitzubring
 en.Lieber GrußEuer Vorstand des BSIR
X-ALT-DESC;FMTTYPE=text/html:<pre class="moz-quote-pre">Liebe Mitglieder im BSIR, liebe Milena,wir freue
 n uns auf euch beim BSIR Sommerhock bei Rudolf im Garten, Strandbadstrasse 
 16 auf der Au, ab 18:00 Uhr am Sa., den 28. Juni 2025.Unser Sommerhock, frü
 her Vollmondausfahrt, dann Lampion/Vollmondhock beginnt mit Sonnenschein bi
 s 21:15 Uhr. <br />Bis zur Dunkelheit gegen 22:00 Uhr werden mitgebrachte L
 ampions trotz beendetem Neumond kaum zur Geltung kommen. Um so besser sind 
 mitgebrachtes Essen und Getränke zu erkennen.Bitte denkt daran, auch Bestec
 k, Teller und Gläser mitzubringen.Lieber GrußEuer Vorstand des BSIR</pre>
DTSTAMP:20260421T204646
DTSTART;TZID=Europe/Berlin:20250628T180000
SEQUENCE:0
TRANSP:OPAQUE
END:VEVENT
END:VCALENDAR